BEGIN:VCALENDAR
VERSION:2.0
PRODID:-//Association for Promoting Retreats - ECPv6.15.20//NONSGML v1.0//EN
CALSCALE:GREGORIAN
METHOD:PUBLISH
X-WR-CALNAME:Association for Promoting Retreats
X-ORIGINAL-URL:https://promotingretreats.org
X-WR-CALDESC:Events for Association for Promoting Retreats
REFRESH-INTERVAL;VALUE=DURATION:PT1H
X-Robots-Tag:noindex
X-PUBLISHED-TTL:PT1H
BEGIN:VTIMEZONE
TZID:UTC
BEGIN:STANDARD
TZOFFSETFROM:+0000
TZOFFSETTO:+0000
TZNAME:UTC
DTSTART:20250101T000000
END:STANDARD
END:VTIMEZONE
BEGIN:VEVENT
DTSTART;TZID=UTC:20260419T090000
DTEND;TZID=UTC:20260426T150000
DTSTAMP:20260424T095542
CREATED:20260107T100042Z
LAST-MODIFIED:20260107T100042Z
UID:10004656-1776589200-1777215600@promotingretreats.org
SUMMARY:Spring IGR Retreat at the House of the Resurrection\, Mirfield
DESCRIPTION:Our IGRs are Ignatian-style retreats. There are no addresses as in preached or themed retreats. Rather\, each person with the help of an experienced guide\, follows their own path as it seems God is leading them. The emphasis is on integrating body\, mind and heart in faith.
URL:https://promotingretreats.org/retreat/spring-igr-retreat-at-the-house-of-the-resurrection-mirfield/
LOCATION:Community of the Resurrection\, Mirfield\, Stocks Bank Road\, Mirfield\, WF14 0BN\, United Kingdom
CATEGORIES:IGR (Individually Guided Retreat),Residential Retreat
ORGANIZER;CN="Community of the Resurrection":MAILTO:guests@mirfield.org.uk
END:VEVENT
BEGIN:VEVENT
DTSTART;TZID=UTC:20260420T150000
DTEND;TZID=UTC:20260424T130000
DTSTAMP:20260424T095542
CREATED:20260228T155933Z
LAST-MODIFIED:20260228T155933Z
UID:10004931-1776697200-1777035600@promotingretreats.org
SUMMARY:'Hope' retreat at Sheldon Retreat Centre
DESCRIPTION:Through the Door of Hope\nChristopher Chapman\nExploring the way of hope within challenging times
URL:https://promotingretreats.org/retreat/hope-retreat-at-sheldon-retreat-centre/
LOCATION:Sheldon Retreat\, Sheldon Lane\, Doddiscombsleigh\, Devon\, EX6 7YT\, United Kingdom
CATEGORIES:Residential Retreat
ORGANIZER;CN="Sheldon Retreat":MAILTO:welcome@sheldonretreat.com
END:VEVENT
BEGIN:VEVENT
DTSTART;TZID=UTC:20260423T090000
DTEND;TZID=UTC:20260426T150000
DTSTAMP:20260424T095542
CREATED:20251016T103225Z
LAST-MODIFIED:20251016T103225Z
UID:10004281-1776934800-1777215600@promotingretreats.org
SUMMARY:Retiring Well retreat at Penhurst Retreat Centre
DESCRIPTION:Thu 23 – Sun 26 April \nRetiring Well\n  \nHelen Calder \n 
URL:https://promotingretreats.org/retreat/retiring-well-retreat-at-penhurst-retreat-centre/
LOCATION:Penhurst Retreat Centre\, Penhurst\, Nr Battle\, East Sussex\, TN33 9QP\, United Kingdom
CATEGORIES:Residential Retreat
ORGANIZER;CN="Penhurst Retreat Centre":MAILTO:info@penhurst.org.uk
END:VEVENT
BEGIN:VEVENT
DTSTART;TZID=UTC:20260423T130000
DTEND;TZID=UTC:20260425T150000
DTSTAMP:20260424T095542
CREATED:20260107T092819Z
LAST-MODIFIED:20260107T092819Z
UID:10004627-1776949200-1777129200@promotingretreats.org
SUMMARY:Theology retreat at Holland House
DESCRIPTION:23rd – 25th Apr 2026: A Modern Church Retreat – ‘I’m not a Theologian\, but….’\nA Modern Church Retreat to be held at Holland House\, Worcestershire\, 4pm Thursday April 23rd\, till after lunch on Saturday\, April 25th\, 2026. Why do so many of us disqualify ourselves from ‘being theologians’? Is it the Church\, the academy\, or both\, that prevent us from embracing the truth that…
URL:https://promotingretreats.org/retreat/theology-retreat-at-holland-house/
LOCATION:Holland House\, Main Road\, Cropthorne\, Worcs\, WR10 3NB\, United Kingdom
CATEGORIES:Residential Retreat
ORGANIZER;CN="Holland House":MAILTO:enquiries@hollandhouse.org
END:VEVENT
BEGIN:VEVENT
DTSTART;TZID=UTC:20260424T083000
DTEND;TZID=UTC:20260424T150000
DTSTAMP:20260424T095542
CREATED:20260228T102245Z
LAST-MODIFIED:20260228T102245Z
UID:10004907-1777019400-1777042800@promotingretreats.org
SUMMARY:Felting Workshop at Quiet Waters Retreat House
DESCRIPTION:24th Apr 26\n\n\nWet Felting Workshop\n\n\nGill Butcher & Joy Sewell\n\n\n10:15- 3:30pm\n\n\n£18\n\n\nCreative Cabin
URL:https://promotingretreats.org/retreat/felting-workshop-at-quiet-waters-retreat-house/
LOCATION:Quiet Waters Christian Retreat House\, Flixton Road\, Bungay\, Suffolk\, NR35 1PD\, United Kingdom
CATEGORIES:Quiet Day
END:VEVENT
BEGIN:VEVENT
DTSTART;TZID=UTC:20260424T090000
DTEND;TZID=UTC:20260424T150000
DTSTAMP:20260424T095542
CREATED:20251016T095318Z
LAST-MODIFIED:20251016T095318Z
UID:10004240-1777021200-1777042800@promotingretreats.org
SUMMARY:Deeper Healing Day at the Living Well\, Nonington
DESCRIPTION:Deeper Healing Day 10.00 am—4.00 pm\nLed by a chaplain
URL:https://promotingretreats.org/retreat/deeper-healing-day-at-the-living-well-nonington-4/
LOCATION:The Living Well\, Nonington\, Vicarage Lane\, Nonington\, Kent\, CT15 4JT\, United Kingdom
CATEGORIES:Quiet Day
END:VEVENT
BEGIN:VEVENT
DTSTART;TZID=UTC:20260424T090000
DTEND;TZID=UTC:20260424T150000
DTSTAMP:20260424T095542
CREATED:20251119T103152Z
LAST-MODIFIED:20251119T103152Z
UID:10004456-1777021200-1777042800@promotingretreats.org
SUMMARY:Quiet Day at Ballyvaloo Retreat Centre
DESCRIPTION:April 24th\, 2026 10:00 AM – 4:00 PM \n“Arise\, shine; for your light is come.” (Is. 60:1): Celebrating the radical Easter message of liberation for women – Dr. Gráinne Doherty\nSSJG Annual Conference Day Event\n\n\n\n\n\n\nIn Springtime every year\, we proclaim that “We are an Easter people.” What difference does this make to us? \nSo much time is invested in the Lenten season that we generally overlook the 50 days that follow… 50 days that call us to believe that the ‘stones’ that repress and imprison us can actually be rolled away\, that the power of potential and giftedness for new life can break through. \nIn a day of input\, discussion\, and prayer\, we will be invited to reflect on how the radical Easter message of death and new life speaks to our lives and the life of the church – especially in its relationship with women…. It’s a time to ‘arise\, shine; for your light is come.’
URL:https://promotingretreats.org/retreat/quiet-day-at-ballyvaloo-retreat-centre-2/
LOCATION:Ballyvaloo Retreat Centre\, Ballyvaloo\, Eniscorthy\, Wexford\, Y21 X392\, Ireland
CATEGORIES:Event,Quiet Day
ORGANIZER;CN="Ballyvaloo Retreat Centre":MAILTO:office@ballyvaloo.ie
END:VEVENT
BEGIN:VEVENT
DTSTART;TZID=UTC:20260424T090000
DTEND;TZID=UTC:20260426T150000
DTSTAMP:20260424T095542
CREATED:20251016T090035Z
LAST-MODIFIED:20251016T090035Z
UID:10004169-1777021200-1777215600@promotingretreats.org
SUMMARY:Wellbeing Retreat at Holy Rood House
DESCRIPTION:April 24th – 26th\nRetreat and Wellbeing for Low Energy\nLed by Helen Warwick
URL:https://promotingretreats.org/retreat/wellbeing-retreat-at-holy-rood-house/
LOCATION:Holy Rood House\, 10 Sowerby Road\, Thirsk\, Yorkshire\, YO7 1HX\, United Kingdom
CATEGORIES:Residential Retreat
ORGANIZER;CN="Holy Rood House":MAILTO:enquiries@holyroodhouse.org.uk
END:VEVENT
BEGIN:VEVENT
DTSTART;TZID=UTC:20260424T090000
DTEND;TZID=UTC:20260426T150000
DTSTAMP:20260424T095542
CREATED:20251120T084140Z
LAST-MODIFIED:20251120T084140Z
UID:10004481-1777021200-1777215600@promotingretreats.org
SUMMARY:Reconnecting with nature retreat at Hilfield Friary
DESCRIPTION:Reconnecting to sacred nature” is a retreat running at Hilfield Friary on Friday 9th (from 12pm) to Sunday 11th (3pm) May 2024 geared at those of different spiritual traditions and none enquiring into the sacredness of nature in the midst of the ecological \ncrisis. \nThe retreat has four aims: \n\nTo help participants develop a deeper connection to and love for the beauty awe and sacredness of nature.\nTo honestly face the environmental crisis with hope\, courage and a sense of personal agency.\nBecome part of a wider movement for positive\, regenerative change in our society\nLearn to know\, honour and protect mother earth\, allowing all life to flourish.\n\nThe retreat will immerse participants in the beauty of creation in the Dorset countryside – slowing us down to nature pace. \nProviding time for reflection\, meditation and stillness inspired by nature. It will draw upon the philosophies and writings of different world spiritual traditions\, the principles of Joanna Macy’s book “Active Hope”\, as well as earth sciences and evolutionary biology. \nThe retreat is for three days\, two nights and includes all meals. \nTo book a place on the retreat or enquire about costs\, please contact Mike Mullins at \nEmail:  mikemullins@soulrewilding.co.uk \nMobile:  07973 642 875      
URL:https://promotingretreats.org/retreat/reconnecting-with-nature-retreat-at-hilfield-friary/
LOCATION:Hilfield Friary\, Hilfield\, Dorchester\, Dorset\, DT7 7BE\, United Kingdom
CATEGORIES:Residential Retreat
ORGANIZER;CN="Hilfield Friary":MAILTO:hilfieldprogramme@franciscans.org.uk
END:VEVENT
BEGIN:VEVENT
DTSTART;TZID=UTC:20260424T090000
DTEND;TZID=UTC:20260426T150000
DTSTAMP:20260424T095542
CREATED:20260228T100526Z
LAST-MODIFIED:20260228T100526Z
UID:10004896-1777021200-1777215600@promotingretreats.org
SUMMARY:Festival of Song at the Othona Community Essex
DESCRIPTION:Festival of Song 2026\n24th April 2026 to 26th April 2026\nNatural voice singing with Sarah and Jennie
URL:https://promotingretreats.org/retreat/festival-of-song-at-the-othona-community-essex/
LOCATION:Othona Community\, Essex\, East End Road\, Bradwell on Sea\, Essex\, CM0 7PN\, United Kingdom
CATEGORIES:Residential Retreat
ORGANIZER;CN="Othona Community%2C Essex":MAILTO:bradwell@othona.org
END:VEVENT
END:VCALENDAR