BEGIN:VCALENDAR
VERSION:2.0
PRODID:-//Association for Promoting Retreats - ECPv6.15.20//NONSGML v1.0//EN
CALSCALE:GREGORIAN
METHOD:PUBLISH
X-WR-CALNAME:Association for Promoting Retreats
X-ORIGINAL-URL:https://promotingretreats.org
X-WR-CALDESC:Events for Association for Promoting Retreats
REFRESH-INTERVAL;VALUE=DURATION:PT1H
X-Robots-Tag:noindex
X-PUBLISHED-TTL:PT1H
BEGIN:VTIMEZONE
TZID:UTC
BEGIN:STANDARD
TZOFFSETFROM:+0000
TZOFFSETTO:+0000
TZNAME:UTC
DTSTART:20250101T000000
END:STANDARD
END:VTIMEZONE
BEGIN:VEVENT
DTSTART;TZID=UTC:20260424T083000
DTEND;TZID=UTC:20260424T150000
DTSTAMP:20260424T095445
CREATED:20260228T102245Z
LAST-MODIFIED:20260228T102245Z
UID:10004907-1777019400-1777042800@promotingretreats.org
SUMMARY:Felting Workshop at Quiet Waters Retreat House
DESCRIPTION:24th Apr 26\n\n\nWet Felting Workshop\n\n\nGill Butcher & Joy Sewell\n\n\n10:15- 3:30pm\n\n\n£18\n\n\nCreative Cabin
URL:https://promotingretreats.org/retreat/felting-workshop-at-quiet-waters-retreat-house/
LOCATION:Quiet Waters Christian Retreat House\, Flixton Road\, Bungay\, Suffolk\, NR35 1PD\, United Kingdom
CATEGORIES:Quiet Day
END:VEVENT
BEGIN:VEVENT
DTSTART;TZID=UTC:20260424T090000
DTEND;TZID=UTC:20260424T150000
DTSTAMP:20260424T095445
CREATED:20251016T095318Z
LAST-MODIFIED:20251016T095318Z
UID:10004240-1777021200-1777042800@promotingretreats.org
SUMMARY:Deeper Healing Day at the Living Well\, Nonington
DESCRIPTION:Deeper Healing Day 10.00 am—4.00 pm\nLed by a chaplain
URL:https://promotingretreats.org/retreat/deeper-healing-day-at-the-living-well-nonington-4/
LOCATION:The Living Well\, Nonington\, Vicarage Lane\, Nonington\, Kent\, CT15 4JT\, United Kingdom
CATEGORIES:Quiet Day
END:VEVENT
BEGIN:VEVENT
DTSTART;TZID=UTC:20260424T090000
DTEND;TZID=UTC:20260424T150000
DTSTAMP:20260424T095445
CREATED:20251119T103152Z
LAST-MODIFIED:20251119T103152Z
UID:10004456-1777021200-1777042800@promotingretreats.org
SUMMARY:Quiet Day at Ballyvaloo Retreat Centre
DESCRIPTION:April 24th\, 2026 10:00 AM – 4:00 PM \n“Arise\, shine; for your light is come.” (Is. 60:1): Celebrating the radical Easter message of liberation for women – Dr. Gráinne Doherty\nSSJG Annual Conference Day Event\n\n\n\n\n\n\nIn Springtime every year\, we proclaim that “We are an Easter people.” What difference does this make to us? \nSo much time is invested in the Lenten season that we generally overlook the 50 days that follow… 50 days that call us to believe that the ‘stones’ that repress and imprison us can actually be rolled away\, that the power of potential and giftedness for new life can break through. \nIn a day of input\, discussion\, and prayer\, we will be invited to reflect on how the radical Easter message of death and new life speaks to our lives and the life of the church – especially in its relationship with women…. It’s a time to ‘arise\, shine; for your light is come.’
URL:https://promotingretreats.org/retreat/quiet-day-at-ballyvaloo-retreat-centre-2/
LOCATION:Ballyvaloo Retreat Centre\, Ballyvaloo\, Eniscorthy\, Wexford\, Y21 X392\, Ireland
CATEGORIES:Event,Quiet Day
ORGANIZER;CN="Ballyvaloo Retreat Centre":MAILTO:office@ballyvaloo.ie
END:VEVENT
BEGIN:VEVENT
DTSTART;TZID=UTC:20260425T090000
DTEND;TZID=UTC:20260425T150000
DTSTAMP:20260424T095445
CREATED:20260227T164255Z
LAST-MODIFIED:20260227T164255Z
UID:10004850-1777107600-1777129200@promotingretreats.org
SUMMARY:Quiet Day at the House of Prayer
DESCRIPTION:Let Him Easter in us\n\nSaturday 25 April 2026\n10:00  16:00\nThe House of Prayer (map)\n\n\nLed by Dr Antonia Lynn \nThe Feast of St Mark falls in Eastertide and we celebrate it today. This spring Saturday offers a chance to reflect on the Paschal Mystery through the lens of St Mark’s Gospel; a chance to experience Easter as a verb (as Gerard Manley Hopkins does in his poem The Wreck of the Deutschland\, from which today’s title comes) — God’s work in progress in our lives. This is planned as a spacious day\, with time to go at your own pace and enjoy reflection\, rest and gentle creativity. \nStarts at 10am and finishes at 4pm. Please bring a packed lunch.
URL:https://promotingretreats.org/retreat/quiet-day-at-the-house-of-prayer-5/
LOCATION:House of Prayer\, East Molesey\, 35 Seymour Road\, East Molesey\, KT8 0PB\, United Kingdom
CATEGORIES:Quiet Day
ORGANIZER;CN="House of Prayer":MAILTO:admin@christian-retreat.org
END:VEVENT
BEGIN:VEVENT
DTSTART;TZID=UTC:20260427T090000
DTEND;TZID=UTC:20260427T153000
DTSTAMP:20260424T095445
CREATED:20260209T095531Z
LAST-MODIFIED:20260209T095531Z
UID:10004757-1777280400-1777303800@promotingretreats.org
SUMMARY:Drop-In day at Llangasty Retreat House
DESCRIPTION:An opportunity to pause for prayer and personal reflection –\nCome for all or part of the day\nBring your own lunch\nCoffee and tea provided\nNo charge\, but donations welcome\n10am – 4pm with Eucharist at 12 noon
URL:https://promotingretreats.org/retreat/drop-in-day-at-llangasty-retreat-house-3/
LOCATION:Llangasty Retreat House\, Llangasty\, Brecon\, Wales\, LD3 7PX\, United Kingdom
CATEGORIES:Quiet Day
ORGANIZER;CN="Llangasty Retreat House":MAILTO:enquiries@llangasty.com
END:VEVENT
BEGIN:VEVENT
DTSTART;TZID=UTC:20260428T090000
DTEND;TZID=UTC:20260428T150000
DTSTAMP:20260424T095445
CREATED:20250320T105802Z
LAST-MODIFIED:20250320T105802Z
UID:10003770-1777366800-1777388400@promotingretreats.org
SUMMARY:Day of Reflection at the Franciscan Centre\, Ladywell
DESCRIPTION:Day of Reflection\nThe Franciscan Centre Ashstead Lane\, Godalming\, United Kingdom\n\n\nCome away and rest awhile on a Day of Reflection at the Franciscan Centre Ladywell! Our next gatherings will be held on the 2nd Saturday and 4th Tuesday of each month from 9.30am to 4.00pm.
URL:https://promotingretreats.org/retreat/day-of-reflection-at-the-franciscan-centre-ladywell-2/2026-04-28/
LOCATION:Franciscan Centre\, Ladywell\, Ashtead Lane\, Godalming\, GU7 1ST\, United Kingdom
CATEGORIES:Quiet Day
ORGANIZER;CN="Franciscan Centre%2C Ladywell":MAILTO:franciscancentre@ladywell.org.uk
END:VEVENT
BEGIN:VEVENT
DTSTART;TZID=UTC:20260429T090000
DTEND;TZID=UTC:20260429T113000
DTSTAMP:20260424T095445
CREATED:20260227T162824Z
LAST-MODIFIED:20260227T162824Z
UID:10004844-1777453200-1777462200@promotingretreats.org
SUMMARY:Quiet Day with the Sisters of Bethany\, Norfolk
DESCRIPTION:Wednesday 29th April 10am – 12.30pm\nA Morning Retreat – The Road to Emmaus \nThe retreats offer a time of quiet reflection for all who come and there is no requirement to share anything with the group about your time of reflection and contemplation. It is just a time for you to listen to addresses by the Sisters and have some quiet time. \nThere will be a maximum of 6 people per retreat.\nTo book please email – moc.liamg@klofronbss.tseug\nor Tel/Text: 07732750702 \nFurther information about the retreats can be found here – Retreat Leaflet
URL:https://promotingretreats.org/retreat/quiet-day-with-the-sisters-of-bethany-norfolk-10/
LOCATION:Sisters of Bethany\, Norfolk\, Grove Barns\, Porters Road\, Moulton St Mary\, Norfolk\, NR13 3NR\, United Kingdom
CATEGORIES:Quiet Day
ORGANIZER;CN="Sisters of Bethany%2C Norfolk":MAILTO:sistersofbethany.norfolk@gmail.com
END:VEVENT
BEGIN:VEVENT
DTSTART;TZID=UTC:20260430T090000
DTEND;TZID=UTC:20260430T113000
DTSTAMP:20260424T095445
CREATED:20260228T092952Z
LAST-MODIFIED:20260228T092952Z
UID:10004873-1777539600-1777548600@promotingretreats.org
SUMMARY:Soul filled Meanderings at Launde Abbey
DESCRIPTION:Soul Filled Meanderings\nThursday 30th April @ 10:30 am – 12:30 pm\n\n\nTake a couple of hours\, put on your coat and boots and explore and experience God’s creation. This is an opportunity to stop\, look and listen. Using all your senses to know and understand more about our Everlasting Father and Creator God. Led by Jo De Graaf.
URL:https://promotingretreats.org/retreat/soul-filled-meanderings-at-launde-abbey-6/
LOCATION:Launde Abbey\, Launde\, East Norton\, Leicestershire\, LE7 9XB\, United Kingdom
CATEGORIES:Quiet Day
ORGANIZER;CN="Launde Abbey":MAILTO:info@launde.org.uk
END:VEVENT
BEGIN:VEVENT
DTSTART;TZID=UTC:20260430T120000
DTEND;TZID=UTC:20260430T143000
DTSTAMP:20260424T095445
CREATED:20260127T132400Z
LAST-MODIFIED:20260127T132400Z
UID:10004720-1777550400-1777559400@promotingretreats.org
SUMMARY:Quiet Day at Shepherds Dene
DESCRIPTION:
URL:https://promotingretreats.org/retreat/quiet-day-at-shepherds-dene/
LOCATION:Shepherd’s Dene\, Slaley Road\, Riding Mill\, Northumbria\, NE44 6AF\, United Kingdom
CATEGORIES:Quiet Day
ORGANIZER;CN="Shepherd's Dene":MAILTO:info@shepherdsdene.co.uk
END:VEVENT
BEGIN:VEVENT
DTSTART;TZID=UTC:20260502T090000
DTEND;TZID=UTC:20260502T150000
DTSTAMP:20260424T095445
CREATED:20260107T095322Z
LAST-MODIFIED:20260107T095322Z
UID:10004647-1777712400-1777734000@promotingretreats.org
SUMMARY:Quiet Day at Ty Mawr Convent
DESCRIPTION:
URL:https://promotingretreats.org/retreat/quiet-day-at-ty-mawr-convent/
LOCATION:Ty Mawr Convent\, Lydart\, Monmouth\, Wales\, NP25 4RN\, United Kingdom
CATEGORIES:Quiet Day
ORGANIZER;CN="Ty Mawr Convent":MAILTO:community@tymawrconvent.com
END:VEVENT
BEGIN:VEVENT
DTSTART;TZID=UTC:20260502T120000
DTEND;TZID=UTC:20260502T133000
DTSTAMP:20260424T095445
CREATED:20260406T061636Z
LAST-MODIFIED:20260406T061636Z
UID:10005003-1777723200-1777728600@promotingretreats.org
SUMMARY:Labyrinth Day at Tremorran & The Angel
DESCRIPTION:Walk at 1pm
URL:https://promotingretreats.org/retreat/labyrinth-day-at-tremorran-the-angel/
LOCATION:Tremorran and the Angel\, Truthwall St Just\, Penzance\, Cornwall\, TR19 7QJ\, United Kingdom
CATEGORIES:Event,Quiet Day
ORGANIZER;CN="Tremorran and the Angel":MAILTO:missanniehenry@hotmail.com
END:VEVENT
BEGIN:VEVENT
DTSTART;TZID=UTC:20260505T090000
DTEND;TZID=UTC:20260505T150000
DTSTAMP:20260424T095445
CREATED:20251108T094834Z
LAST-MODIFIED:20251108T094834Z
UID:10004432-1777971600-1777993200@promotingretreats.org
SUMMARY:Quiet Day at Whalley Abbey
DESCRIPTION:Held in God’s Gaze: Jean-Pierre de Caussade and the ‘Sacrament of the Present Moment’\n\n09:30  15:00\n\n\nHeld in God’s Gaze: Jean-Pierre de Caussade: the ‘Sacrament of the Present Moment’; God here and now amid things as they are
URL:https://promotingretreats.org/retreat/quiet-day-at-whalley-abbey-3/
LOCATION:Whalley Abbey\, The Sands\, Clitheroe\, Lancashire\, BB7 9SS\, United Kingdom
CATEGORIES:Quiet Day
ORGANIZER;CN="Whalley Abbey":MAILTO:office@whalleyabbey.org
END:VEVENT
BEGIN:VEVENT
DTSTART;TZID=UTC:20260505T100000
DTEND;TZID=UTC:20260505T120000
DTSTAMP:20260424T095445
CREATED:20260108T141719Z
LAST-MODIFIED:20260108T141719Z
UID:10004671-1777975200-1777982400@promotingretreats.org
SUMMARY:Online Quiet Day with Christian Retreats
DESCRIPTION:(ONLINE) BE STILL & KNOW THAT I AM GOD | Sometimes we are invited to move into this quiet prayer and just ‘be’. Holding this peaceful retreat\, will be space to simply rest in God. Alongside this\, respecting the Christian call for radical self-awareness\, we will focus on ‘Give careful thought to all your ways’ (Haggai 1:7); in the stillness\, we’ll seek to really try and ‘see’ personal\, negative ways that require transformation. Inspirational art (a sculpture\, a painting and modern images of the stations of the cross) will be a key focus of reflection on the gentle\, patient\, healing Christ who knows our difficult ways and offers us His Way of freedom\, resurrection and light.  Tuesday 5th May 11am – 1pm \n 
URL:https://promotingretreats.org/retreat/online-quiet-day-with-christian-retreats/
LOCATION:Surrey
CATEGORIES:Online retreat/event,Quiet Day
END:VEVENT
BEGIN:VEVENT
DTSTART;TZID=UTC:20260506T090000
DTEND;TZID=UTC:20260506T113000
DTSTAMP:20260424T095445
CREATED:20260227T162855Z
LAST-MODIFIED:20260227T162855Z
UID:10004845-1778058000-1778067000@promotingretreats.org
SUMMARY:Quiet Day with the Sisters of Bethany\, Norfolk
DESCRIPTION:Wednesday 6th May 10am – 12.30pm\nA Morning Retreat – A Healing Encounter – Jesus at the pool of Bethesda \nThe retreats offer a time of quiet reflection for all who come and there is no requirement to share anything with the group about your time of reflection and contemplation. It is just a time for you to listen to addresses by the Sisters and have some quiet time. \nThere will be a maximum of 6 people per retreat.\nTo book please email – moc.liamg@klofronbss.tseug\nor Tel/Text: 07732750702 \nFurther information about the retreats can be found here – Retreat Leaflet
URL:https://promotingretreats.org/retreat/quiet-day-with-the-sisters-of-bethany-norfolk-11/
LOCATION:Sisters of Bethany\, Norfolk\, Grove Barns\, Porters Road\, Moulton St Mary\, Norfolk\, NR13 3NR\, United Kingdom
CATEGORIES:Quiet Day
ORGANIZER;CN="Sisters of Bethany%2C Norfolk":MAILTO:sistersofbethany.norfolk@gmail.com
END:VEVENT
BEGIN:VEVENT
DTSTART;TZID=UTC:20260506T090000
DTEND;TZID=UTC:20260506T143000
DTSTAMP:20260424T095445
CREATED:20260112T112207Z
LAST-MODIFIED:20260112T112207Z
UID:10004695-1778058000-1778077800@promotingretreats.org
SUMMARY:Quiet Day at the Dupuis Centre
DESCRIPTION:Let by Sister Pauline Myers SP. \nCost £20. \nPlease bring your own lunch; tea and coffee provided \nBook by emailing margaret.mattison@sellypark.org or phone 0121 415 6100
URL:https://promotingretreats.org/retreat/quiet-day-at-the-dupuis-centre-3/
LOCATION:Dupuis Centre\, 94 Selly Park Road\, Birmingham\, West Midlands\, B29 7LL\, United Kingdom
CATEGORIES:Quiet Day
END:VEVENT
BEGIN:VEVENT
DTSTART;TZID=UTC:20260507T090000
DTEND;TZID=UTC:20260507T143000
DTSTAMP:20260424T095445
CREATED:20251016T114140Z
LAST-MODIFIED:20251016T114140Z
UID:10004374-1778144400-1778164200@promotingretreats.org
SUMMARY:Quiet Day at Wydale Hall
DESCRIPTION:A Day at Taize\n\n9:30 AM  4:00 PM\nWydale Hall (map)\n\n\nA quiet day to learn more about and enjoy the Taize style of worship \nLed by: Anna Walker \nCost: £30.00 including lunch and refreshments
URL:https://promotingretreats.org/retreat/quiet-day-at-wydale-hall-5/
LOCATION:Wydale Hall\, Brompton by Sawdon\, Scarborough\, Yorkshire\, YO13 9DG\, United Kingdom
CATEGORIES:Quiet Day
ORGANIZER;CN="Wydale Hall":MAILTO:retreat@wydale.org
END:VEVENT
BEGIN:VEVENT
DTSTART;TZID=UTC:20260507T090000
DTEND;TZID=UTC:20260507T150000
DTSTAMP:20260424T095445
CREATED:20260227T151815Z
LAST-MODIFIED:20260227T151815Z
UID:10004817-1778144400-1778166000@promotingretreats.org
SUMMARY:Quiet Garden Day at Holland House
DESCRIPTION:7th May 2026: Quiet Garden Day\nThursday 7th May 2026 The overall theme for this year is ’The Healing Garden’ Come and spend the day enjoying the peace and tranquillity of the Holland House gardens.   The day will begin at 10am to gather for coffee and then start in the Chapel at 10.30am for thoughts…
URL:https://promotingretreats.org/retreat/quiet-garden-day-at-holland-house-2/
LOCATION:Holland House\, Main Road\, Cropthorne\, Worcs\, WR10 3NB\, United Kingdom
CATEGORIES:Quiet Day
ORGANIZER;CN="Holland House":MAILTO:enquiries@hollandhouse.org
END:VEVENT
BEGIN:VEVENT
DTSTART;TZID=UTC:20260509T090000
DTEND;TZID=UTC:20260509T150000
DTSTAMP:20260424T095445
CREATED:20250320T105726Z
LAST-MODIFIED:20250320T105726Z
UID:10003651-1778317200-1778338800@promotingretreats.org
SUMMARY:Day of Reflection at the Franciscan Centre\, Ladywell
DESCRIPTION:Day of Reflection\nThe Franciscan Centre Ashstead Lane\, Godalming\, United Kingdom\n\n\nCome away and rest awhile on a Day of Reflection at the Franciscan Centre Ladywell! Our next gatherings will be held on the 2nd Saturday and 4th Tuesday of each month from 9.30am to 4.00pm.
URL:https://promotingretreats.org/retreat/day-of-reflection-at-the-franciscan-centre-ladywell/2026-05-09/
LOCATION:Franciscan Centre\, Ladywell\, Ashtead Lane\, Godalming\, GU7 1ST\, United Kingdom
CATEGORIES:Quiet Day
ORGANIZER;CN="Franciscan Centre%2C Ladywell":MAILTO:franciscancentre@ladywell.org.uk
END:VEVENT
BEGIN:VEVENT
DTSTART;TZID=UTC:20260509T090000
DTEND;TZID=UTC:20260509T150000
DTSTAMP:20260424T095445
CREATED:20250821T062214Z
LAST-MODIFIED:20250821T062214Z
UID:10004059-1778317200-1778338800@promotingretreats.org
SUMMARY:Craft Quiet Day at the Retreat House Pleshey
DESCRIPTION:COLOURS OF DAY\n  \n\nA Reflect and Create Craft Day
URL:https://promotingretreats.org/retreat/craft-quiet-day-at-the-retreat-house-pleshey-2/
LOCATION:Retreat House Pleshey\, The Street\, Pleshey\, Essex\, CM3 1HA\, United Kingdom
CATEGORIES:Quiet Day
ORGANIZER;CN="Retreat House Pleshey":MAILTO:retreathouse@chelmsford.anglican.org
END:VEVENT
BEGIN:VEVENT
DTSTART;TZID=UTC:20260509T090000
DTEND;TZID=UTC:20260509T150000
DTSTAMP:20260424T095445
CREATED:20260227T094130Z
LAST-MODIFIED:20260227T094130Z
UID:10004781-1778317200-1778338800@promotingretreats.org
SUMMARY:Annual Julian Lecture at St Julian's Shrine\, Norwich
DESCRIPTION:Annual Julian Lecture:Julian’s Sensory World\n\n\nThis year’s annual Julian lecture will be given by Margit Thøfner\, senior lecturer in Art History\, on the subject of Julian’s Sensory World: Embodied Knowledge in Medieval Norwich Click here for more information.
URL:https://promotingretreats.org/retreat/annual-julian-lecture-at-st-julians-shrine-norwich/
LOCATION:St Julian’s Church\, Norwich\, Rouen Road\, Norwich\, Norfolk\, NR1 1QT\, United Kingdom
CATEGORIES:Event,Quiet Day
ORGANIZER;CN="Julian Shrine":MAILTO:josiah.english@julianofnorwich.org
END:VEVENT
BEGIN:VEVENT
DTSTART;TZID=UTC:20260511T070000
DTEND;TZID=UTC:20260511T160000
DTSTAMP:20260424T095445
CREATED:20251016T105329Z
LAST-MODIFIED:20251016T105329Z
UID:10004316-1778482800-1778515200@promotingretreats.org
SUMMARY:Open Reflective Day at the Royal Foundation of St Katharine
DESCRIPTION:Open Reflective Day ~ 11th May\n\n11th May 2026\, 8:00 am – 5:00 pm\n\n\nWe are delighted to invite you to our Urban Oasis for our Open Reflective Days in 2026. These are our most popular retreats allowing you to have a personal quiet day to reflect and recharge away from the distractions of everyday life. \nYou may use this day as time to pray\, do some life admin or maybe to finish that project you need to focus on. Most people choose to begin their day by joining the welcome meditation. \nDuring the day you are welcome to join our optional services held in our Chapel. \nOption to StaySunday \nYou can stay over on Sunday through to the Open Reflective Day on Monday to enjoy a full 24 hours residential retreat experience. \nKindly note that places are limited so please book early to avoid disappointment. Click the link below for more info on how to book.
URL:https://promotingretreats.org/retreat/open-reflective-day-at-the-royal-foundation-of-st-katharine-5/
LOCATION:Royal Foundation of St Katharine\, 2 Butcher Row\, London\, London\, E14 8DS\, United Kingdom
CATEGORIES:Quiet Day
ORGANIZER;CN="Royal Foundation of St Katharine":MAILTO:info@rfsk.org.uk
END:VEVENT
BEGIN:VEVENT
DTSTART;TZID=UTC:20260511T110000
DTEND;TZID=UTC:20260511T130000
DTSTAMP:20260424T095445
CREATED:20260406T061036Z
LAST-MODIFIED:20260406T061036Z
UID:10004994-1778497200-1778504400@promotingretreats.org
SUMMARY:Soup and Silence at Tremorran & The Angel
DESCRIPTION:Arrive at 12.15 for soup and a chat. \nSilence from 1-1.30
URL:https://promotingretreats.org/retreat/soup-and-silence-at-tremorran-the-angel-2/
LOCATION:Tremorran and the Angel\, Truthwall St Just\, Penzance\, Cornwall\, TR19 7QJ\, United Kingdom
CATEGORIES:Event,Quiet Day
ORGANIZER;CN="Tremorran and the Angel":MAILTO:missanniehenry@hotmail.com
END:VEVENT
BEGIN:VEVENT
DTSTART;TZID=UTC:20260511T170000
DTEND;TZID=UTC:20260511T190000
DTSTAMP:20260424T095445
CREATED:20260107T093322Z
LAST-MODIFIED:20260107T093322Z
UID:10004632-1778518800-1778526000@promotingretreats.org
SUMMARY:Evening Meditation at Holland House
DESCRIPTION:Encounter Meditation: 11th May 2026 (AN EVENING EVENT!)\nEncounter Meditation An in-person evening retreat with music\, art and silence. An invitation to take an hour out of the busyness of modern life. Facilitated by contemplative practitioners\, Mary Flitcroft and Helen Stanton\, sessions will start with a piece of live music or artwork followed by a time of reflection\,…
URL:https://promotingretreats.org/retreat/evening-meditation-at-holland-house-2/
LOCATION:Holland House\, Main Road\, Cropthorne\, Worcs\, WR10 3NB\, United Kingdom
CATEGORIES:Quiet Day
ORGANIZER;CN="Holland House":MAILTO:enquiries@hollandhouse.org
END:VEVENT
BEGIN:VEVENT
DTSTART;TZID=UTC:20260512T093000
DTEND;TZID=UTC:20260512T140000
DTSTAMP:20260424T095445
CREATED:20251202T150553Z
LAST-MODIFIED:20251202T150553Z
UID:10004522-1778578200-1778594400@promotingretreats.org
SUMMARY:Online Oasis Day
DESCRIPTION:12 May – ‘The #1 Addiction of the 21st Century!’\nled by Doug Hiza \nDay runs from 10.45am to 3 pm \nEmail janefranklinretreats@gmail.com for a Zoom link to this event.
URL:https://promotingretreats.org/retreat/online-oasis-day-4/
LOCATION:Surrey
CATEGORIES:Online retreat/event,Quiet Day
ORGANIZER;CN="Jane Franklin":MAILTO:janefranklinretreats@gmail.com
END:VEVENT
BEGIN:VEVENT
DTSTART;TZID=UTC:20260513T090000
DTEND;TZID=UTC:20260513T150000
DTSTAMP:20260424T095445
CREATED:20260417T153938Z
LAST-MODIFIED:20260417T153938Z
UID:10005019-1778662800-1778684400@promotingretreats.org
SUMMARY:Open Garden at High Dalby House
DESCRIPTION:
URL:https://promotingretreats.org/retreat/open-garden-at-high-dalby-house/
LOCATION:High Dalby House\, Dalby Forest Drive\, Pickering\, Yorkshire\, YO18 7LP\, United Kingdom
CATEGORIES:Event,Quiet Day
ORGANIZER;CN="High Dalby House":MAILTO:ian@highdalbyhouse.com
END:VEVENT
BEGIN:VEVENT
DTSTART;TZID=UTC:20260514T090000
DTEND;TZID=UTC:20260514T150000
DTSTAMP:20260424T095445
CREATED:20260228T161138Z
LAST-MODIFIED:20260228T161138Z
UID:10004943-1778749200-1778770800@promotingretreats.org
SUMMARY:Writing for Wellbeing Day at Hilfield Friary
DESCRIPTION:Join Penny Johnson (MBACP) and Br John for a time of listening to the self\, through creative writing within a safe and confidential environment. \nExperience in writing not necessary\, neither is there any need to share your words although you may find it helpful to do so. \nRefreshments and a simple lunch of soup and bread will be provided. \nCome and enjoy the peace of the Friary and meet others on the healing journey. \n\n\n  
URL:https://promotingretreats.org/retreat/writing-for-wellbeing-day-at-hilfield-friary/
LOCATION:Hilfield Friary\, Hilfield\, Dorchester\, Dorset\, DT7 7BE\, United Kingdom
CATEGORIES:Event,Quiet Day
ORGANIZER;CN="Hilfield Friary":MAILTO:hilfieldprogramme@franciscans.org.uk
END:VEVENT
BEGIN:VEVENT
DTSTART;TZID=UTC:20260516T090000
DTEND;TZID=UTC:20260516T150000
DTSTAMP:20260424T095445
CREATED:20251016T095339Z
LAST-MODIFIED:20251016T095339Z
UID:10004241-1778922000-1778943600@promotingretreats.org
SUMMARY:Deeper Healing Day at the Living Well\, Nonington
DESCRIPTION:Deeper Healing Day 10.00 am—4.00 pm\nLed by a chaplain
URL:https://promotingretreats.org/retreat/deeper-healing-day-at-the-living-well-nonington-5/
LOCATION:The Living Well\, Nonington\, Vicarage Lane\, Nonington\, Kent\, CT15 4JT\, United Kingdom
CATEGORIES:Quiet Day
END:VEVENT
BEGIN:VEVENT
DTSTART;TZID=UTC:20260516T090000
DTEND;TZID=UTC:20260516T150000
DTSTAMP:20260424T095445
CREATED:20260303T144038Z
LAST-MODIFIED:20260303T144038Z
UID:10004967-1778922000-1778943600@promotingretreats.org
SUMMARY:Quiet Day at Rydal Hall
DESCRIPTION:Being – Quiet Day\n\n\n\nMay 16\, 2026\n\n\n\n\n10:00 am\n3:00 pm\n\n\n\n\n\n£20
URL:https://promotingretreats.org/retreat/quiet-day-at-rydal-hall-3/
LOCATION:Rydal Hall\, Rydal\, Ambleside\, Cumbria\, LA22 9LX\, United Kingdom
CATEGORIES:Quiet Day
ORGANIZER;CN="Rydal Hall":MAILTO:mail@rydalhall.org
END:VEVENT
BEGIN:VEVENT
DTSTART;TZID=UTC:20260516T090000
DTEND;TZID=UTC:20260516T150000
DTSTAMP:20260424T095445
CREATED:20260326T102825Z
LAST-MODIFIED:20260326T102825Z
UID:10004983-1778922000-1778943600@promotingretreats.org
SUMMARY:Retreat Day for Couples at St Chad's Leek
DESCRIPTION:
URL:https://promotingretreats.org/retreat/retreat-day-for-couples-at-st-chads-leek/
LOCATION:St Chad’s House\, Leek\, 3 Southfields\, Leek\, Staffordshire\, ST13 5LR\, United Kingdom
CATEGORIES:Quiet Day
ORGANIZER;CN="St Chad's House%2C Leek":MAILTO:stchadsleek@gmail.com
END:VEVENT
BEGIN:VEVENT
DTSTART;TZID=UTC:20260516T090000
DTEND;TZID=UTC:20260516T150000
DTSTAMP:20260424T095445
CREATED:20260417T153658Z
LAST-MODIFIED:20260417T153658Z
UID:10005014-1778922000-1778943600@promotingretreats.org
SUMMARY:Quiet Day at High Dalby House
DESCRIPTION:May 16th- Quiet day – to book call 01751 460001 – Glimpses of God in the garden / Living the resurrection life – Spring
URL:https://promotingretreats.org/retreat/quiet-day-at-high-dalby-house/
LOCATION:High Dalby House\, Dalby Forest Drive\, Pickering\, Yorkshire\, YO18 7LP\, United Kingdom
CATEGORIES:Quiet Day
ORGANIZER;CN="High Dalby House":MAILTO:ian@highdalbyhouse.com
END:VEVENT
END:VCALENDAR