BEGIN:VCALENDAR
VERSION:2.0
PRODID:-//Association for Promoting Retreats - ECPv6.15.20//NONSGML v1.0//EN
CALSCALE:GREGORIAN
METHOD:PUBLISH
X-WR-CALNAME:Association for Promoting Retreats
X-ORIGINAL-URL:https://promotingretreats.org
X-WR-CALDESC:Events for Association for Promoting Retreats
REFRESH-INTERVAL;VALUE=DURATION:PT1H
X-Robots-Tag:noindex
X-PUBLISHED-TTL:PT1H
BEGIN:VTIMEZONE
TZID:UTC
BEGIN:STANDARD
TZOFFSETFROM:+0000
TZOFFSETTO:+0000
TZNAME:UTC
DTSTART:20250101T000000
END:STANDARD
END:VTIMEZONE
BEGIN:VEVENT
DTSTART;TZID=UTC:20260501T143000
DTEND;TZID=UTC:20260503T153000
DTSTAMP:20260424T095746
CREATED:20260227T100701Z
LAST-MODIFIED:20260227T100701Z
UID:10004789-1777645800-1777822200@promotingretreats.org
SUMMARY:First Timers' Retreat at St Michael's Convent\, Gerrards Cross
DESCRIPTION:First Time Retreat\nA weekend of reflection and silence suitable for those who have not been on retreat before. \nSuggested donation £140. \nLed by Sister Catherine CSC \n\n\n\nMay 1 – 3
URL:https://promotingretreats.org/retreat/first-timers-retreat-at-st-michaels-convent-gerrards-cross/
LOCATION:St Michael’s Convent\, Gerrards Cross\, Vicarage Way\, Gerrards Cross\, Bucks\, SL9 8AT\, United Kingdom
CATEGORIES:Residential Retreat
ORGANIZER;CN="St Michael's Convent%2C Gerrards Cross":MAILTO:gxhospitality@sistersofthechurch.org
END:VEVENT
BEGIN:VEVENT
DTSTART;TZID=UTC:20260502T073000
DTEND;TZID=UTC:20260502T083000
DTSTAMP:20260424T095746
CREATED:20240726T070809Z
LAST-MODIFIED:20240726T071923Z
UID:10002582-1777707000-1777710600@promotingretreats.org
SUMMARY:Online meditation with the School of Contemplative Life
DESCRIPTION:Meditation in the Christian tradition is an ancient and simple way of prayer. \nOur purpose is to teach meditation as a simple path to peace\, community and oneness. Our vision is to help people establish peace in themselves and become places of peace in the world. \nEach session includes a short talk\, a period of silent meditation practice (preceded by some basic guidelines for anyone who is new)\, and an opportunity for conversation afterwards. \nThe sessions are guided by Chris Whittington. Chris spent a period of formation at Prinknash Abbey Benedictine Monastery and is the Founder of The School of Contemplative Life. \nYou don’t need to bring anything – just yourself. Try to find a quiet space where you won’t be disturbed.
URL:https://promotingretreats.org/retreat/online-meditation-with-the-school-of-contemplative-life/2026-05-02/
LOCATION:Staffordshire
CATEGORIES:Online retreat/event
END:VEVENT
BEGIN:VEVENT
DTSTART;TZID=UTC:20260502T090000
DTEND;TZID=UTC:20260502T150000
DTSTAMP:20260424T095746
CREATED:20260107T095322Z
LAST-MODIFIED:20260107T095322Z
UID:10004647-1777712400-1777734000@promotingretreats.org
SUMMARY:Quiet Day at Ty Mawr Convent
DESCRIPTION:
URL:https://promotingretreats.org/retreat/quiet-day-at-ty-mawr-convent/
LOCATION:Ty Mawr Convent\, Lydart\, Monmouth\, Wales\, NP25 4RN\, United Kingdom
CATEGORIES:Quiet Day
ORGANIZER;CN="Ty Mawr Convent":MAILTO:community@tymawrconvent.com
END:VEVENT
BEGIN:VEVENT
DTSTART;TZID=UTC:20260502T120000
DTEND;TZID=UTC:20260502T133000
DTSTAMP:20260424T095746
CREATED:20260406T061636Z
LAST-MODIFIED:20260406T061636Z
UID:10005003-1777723200-1777728600@promotingretreats.org
SUMMARY:Labyrinth Day at Tremorran & The Angel
DESCRIPTION:Walk at 1pm
URL:https://promotingretreats.org/retreat/labyrinth-day-at-tremorran-the-angel/
LOCATION:Tremorran and the Angel\, Truthwall St Just\, Penzance\, Cornwall\, TR19 7QJ\, United Kingdom
CATEGORIES:Event,Quiet Day
ORGANIZER;CN="Tremorran and the Angel":MAILTO:missanniehenry@hotmail.com
END:VEVENT
BEGIN:VEVENT
DTSTART;TZID=UTC:20260505T090000
DTEND;TZID=UTC:20260505T150000
DTSTAMP:20260424T095746
CREATED:20251108T094834Z
LAST-MODIFIED:20251108T094834Z
UID:10004432-1777971600-1777993200@promotingretreats.org
SUMMARY:Quiet Day at Whalley Abbey
DESCRIPTION:Held in God’s Gaze: Jean-Pierre de Caussade and the ‘Sacrament of the Present Moment’\n\n09:30  15:00\n\n\nHeld in God’s Gaze: Jean-Pierre de Caussade: the ‘Sacrament of the Present Moment’; God here and now amid things as they are
URL:https://promotingretreats.org/retreat/quiet-day-at-whalley-abbey-3/
LOCATION:Whalley Abbey\, The Sands\, Clitheroe\, Lancashire\, BB7 9SS\, United Kingdom
CATEGORIES:Quiet Day
ORGANIZER;CN="Whalley Abbey":MAILTO:office@whalleyabbey.org
END:VEVENT
BEGIN:VEVENT
DTSTART;TZID=UTC:20260505T090000
DTEND;TZID=UTC:20260508T150000
DTSTAMP:20260424T095746
CREATED:20251016T094530Z
LAST-MODIFIED:20251016T094530Z
UID:10004229-1777971600-1778252400@promotingretreats.org
SUMMARY:Women in the Bible retreat at Launde Abbey
DESCRIPTION:Tuesday 5th May\, 2026 @ 4:00 pm – Friday 8th May\, 2026 @ 4:00 pm\nWomen in the Bible\n\n\nBishop Graham Kings will guide us in an interactive\, prayerful exploration of seven beautiful paintings of biblical women by Bulgarian icon writer Silvia Dimitrova. Through his poetry\, biblical commentary\, and music composed by Tristan Latchford\, we’ll reflect on Sarah\, Miriam\, Ruth\, Esther\, Magdalene\, Lydia\, and Priscilla\, with space for our own prayer and creativity.
URL:https://promotingretreats.org/retreat/women-in-the-bible-retreat-at-launde-abbey/
LOCATION:Launde Abbey\, Launde\, East Norton\, Leicestershire\, LE7 9XB\, United Kingdom
CATEGORIES:Residential Retreat
ORGANIZER;CN="Launde Abbey":MAILTO:info@launde.org.uk
END:VEVENT
BEGIN:VEVENT
DTSTART;TZID=UTC:20260505T090000
DTEND;TZID=UTC:20260508T150000
DTSTAMP:20260424T095746
CREATED:20260228T100559Z
LAST-MODIFIED:20260228T100559Z
UID:10004897-1777971600-1778252400@promotingretreats.org
SUMMARY:Springwatch at the Othona Community Essex
DESCRIPTION:Spring Watch\n5th May 2026 to 8th May 2026\nA chance to enjoy the wildlife of the Essex coast
URL:https://promotingretreats.org/retreat/springwatch-at-the-othona-community-essex/
LOCATION:Othona Community\, Essex\, East End Road\, Bradwell on Sea\, Essex\, CM0 7PN\, United Kingdom
CATEGORIES:Residential Retreat
ORGANIZER;CN="Othona Community%2C Essex":MAILTO:bradwell@othona.org
END:VEVENT
BEGIN:VEVENT
DTSTART;TZID=UTC:20260505T090000
DTEND;TZID=UTC:20260511T150000
DTSTAMP:20260424T095746
CREATED:20251016T101318Z
LAST-MODIFIED:20251217T112259Z
UID:10004268-1777971600-1778511600@promotingretreats.org
SUMMARY:Walking retreat at the Othona Community West Dorset
DESCRIPTION:Walking Week: Pilgrim Paths\n\nTue 5 May — Mon 11 May 2026\nLed group walks in the stunning spring countryside
URL:https://promotingretreats.org/retreat/walking-retreat-at-the-othona-community-essex/
LOCATION:Othona Community\, West Dorset\, Coast Road\, Burton Bradstock\, Dorset\, DT6 4RN\, United Kingdom
CATEGORIES:Residential Retreat
ORGANIZER;CN="Othona Community%2C West Dorset":MAILTO:mail@othona-bb.org.uk
END:VEVENT
BEGIN:VEVENT
DTSTART;TZID=UTC:20260505T100000
DTEND;TZID=UTC:20260505T120000
DTSTAMP:20260424T095746
CREATED:20260108T141719Z
LAST-MODIFIED:20260108T141719Z
UID:10004671-1777975200-1777982400@promotingretreats.org
SUMMARY:Online Quiet Day with Christian Retreats
DESCRIPTION:(ONLINE) BE STILL & KNOW THAT I AM GOD | Sometimes we are invited to move into this quiet prayer and just ‘be’. Holding this peaceful retreat\, will be space to simply rest in God. Alongside this\, respecting the Christian call for radical self-awareness\, we will focus on ‘Give careful thought to all your ways’ (Haggai 1:7); in the stillness\, we’ll seek to really try and ‘see’ personal\, negative ways that require transformation. Inspirational art (a sculpture\, a painting and modern images of the stations of the cross) will be a key focus of reflection on the gentle\, patient\, healing Christ who knows our difficult ways and offers us His Way of freedom\, resurrection and light.  Tuesday 5th May 11am – 1pm \n 
URL:https://promotingretreats.org/retreat/online-quiet-day-with-christian-retreats/
LOCATION:Staffordshire
CATEGORIES:Online retreat/event,Quiet Day
END:VEVENT
BEGIN:VEVENT
DTSTART;TZID=UTC:20260506T090000
DTEND;TZID=UTC:20260506T113000
DTSTAMP:20260424T095746
CREATED:20260227T162855Z
LAST-MODIFIED:20260227T162855Z
UID:10004845-1778058000-1778067000@promotingretreats.org
SUMMARY:Quiet Day with the Sisters of Bethany\, Norfolk
DESCRIPTION:Wednesday 6th May 10am – 12.30pm\nA Morning Retreat – A Healing Encounter – Jesus at the pool of Bethesda \nThe retreats offer a time of quiet reflection for all who come and there is no requirement to share anything with the group about your time of reflection and contemplation. It is just a time for you to listen to addresses by the Sisters and have some quiet time. \nThere will be a maximum of 6 people per retreat.\nTo book please email – moc.liamg@klofronbss.tseug\nor Tel/Text: 07732750702 \nFurther information about the retreats can be found here – Retreat Leaflet
URL:https://promotingretreats.org/retreat/quiet-day-with-the-sisters-of-bethany-norfolk-11/
LOCATION:Sisters of Bethany\, Norfolk\, Grove Barns\, Porters Road\, Moulton St Mary\, Norfolk\, NR13 3NR\, United Kingdom
CATEGORIES:Quiet Day
ORGANIZER;CN="Sisters of Bethany%2C Norfolk":MAILTO:sistersofbethany.norfolk@gmail.com
END:VEVENT
BEGIN:VEVENT
DTSTART;TZID=UTC:20260506T090000
DTEND;TZID=UTC:20260506T143000
DTSTAMP:20260424T095746
CREATED:20260112T112207Z
LAST-MODIFIED:20260112T112207Z
UID:10004695-1778058000-1778077800@promotingretreats.org
SUMMARY:Quiet Day at the Dupuis Centre
DESCRIPTION:Let by Sister Pauline Myers SP. \nCost £20. \nPlease bring your own lunch; tea and coffee provided \nBook by emailing margaret.mattison@sellypark.org or phone 0121 415 6100
URL:https://promotingretreats.org/retreat/quiet-day-at-the-dupuis-centre-3/
LOCATION:Dupuis Centre\, 94 Selly Park Road\, Birmingham\, West Midlands\, B29 7LL\, United Kingdom
CATEGORIES:Quiet Day
END:VEVENT
BEGIN:VEVENT
DTSTART;TZID=UTC:20260506T180000
DTEND;TZID=UTC:20260506T190000
DTSTAMP:20260424T095746
CREATED:20240615T051139Z
LAST-MODIFIED:20240615T051139Z
UID:10001397-1778090400-1778094000@promotingretreats.org
SUMMARY:Evening meditation at The Abbey\, Sutton Courtenay
DESCRIPTION:Heartfulness Meditation\nEvery Wednesday 07:15pm to 08:00pm\n\nWe’re delighted to host a weekly Heartfulness Meditation session in our beautiful Library. \nThese sessions are always free of charge and you can also continue at home with support. Available now in 160 countries worldwide supported by volunteers.  Heartfulness meditation is based on ancient Raj Yoga but simplified for the times we live in. At its core is the soft and subtle energy of yogic transmission. It helps to clear the weight of the day and to relax into the meditation. \nFind out more from rosalindpearmain@heartfulness.uk or www.heartfulness.org.
URL:https://promotingretreats.org/retreat/evening-meditation-at-the-abbey-sutton-courtenay/2026-05-06/
LOCATION:The Abbey Sutton Courtenay\, The Green\, Abingdon\, Oxon\, OX14 4AF\, United Kingdom
CATEGORIES:Event
ORGANIZER;CN="The Abbey Sutton Courtenay":MAILTO:welcome@theabbey.uk.com
END:VEVENT
BEGIN:VEVENT
DTSTART;TZID=UTC:20260506T180000
DTEND;TZID=UTC:20260506T203000
DTSTAMP:20260424T095746
CREATED:20260326T102605Z
LAST-MODIFIED:20260326T102605Z
UID:10004980-1778090400-1778099400@promotingretreats.org
SUMMARY:Meal and Study at St Chad's Leek
DESCRIPTION:What if healing is not just something we read about—but something God \nis still doing today? \n \nAfter 32 years of walking through the challenges of genetic illness as a \nfamily\, we’ve witnessed moments that have completely transformed how \nwe understand God’s power and love. One of the most extraordinary was \nseeing our daughter experience a sudden\, overnight miracle—leaving the \nhospital on her own two feet when all odds said otherwise. \n \nWhat if this isn’t just our story—it’s an invitation? \n \nJoin us as we journey together into the reality of God’s healing—exploring \nwhat it means for our bodies\, our minds\, and our souls. We’ll dive into \nbiblical truth\, reflect on the life of St Cuthbert and the remarkable miracles \nthat surrounded him\, and create space for honest questions and shared \ndiscovery. \n \nCome expectant. Come curious. Come hungry for more of God. \nWe’ll begin the evening with a warm meal and end with a time of prayer\, \nmaking space for hope\, encounter\, and connection. \n \nPlaces are limited\, so please email to reserve your place. Donations are \nwelcome on the day. \n \nSuggest donation for event £7
URL:https://promotingretreats.org/retreat/meal-and-study-at-st-chads-leek/
LOCATION:St Chad’s House\, Leek\, 3 Southfields\, Leek\, Staffordshire\, ST13 5LR\, United Kingdom
CATEGORIES:Event
ORGANIZER;CN="St Chad's House%2C Leek":MAILTO:stchadsleek@gmail.com
END:VEVENT
BEGIN:VEVENT
DTSTART;TZID=UTC:20260507T090000
DTEND;TZID=UTC:20260507T143000
DTSTAMP:20260424T095746
CREATED:20251016T114140Z
LAST-MODIFIED:20251016T114140Z
UID:10004374-1778144400-1778164200@promotingretreats.org
SUMMARY:Quiet Day at Wydale Hall
DESCRIPTION:A Day at Taize\n\n9:30 AM  4:00 PM\nWydale Hall (map)\n\n\nA quiet day to learn more about and enjoy the Taize style of worship \nLed by: Anna Walker \nCost: £30.00 including lunch and refreshments
URL:https://promotingretreats.org/retreat/quiet-day-at-wydale-hall-5/
LOCATION:Wydale Hall\, Brompton by Sawdon\, Scarborough\, Yorkshire\, YO13 9DG\, United Kingdom
CATEGORIES:Quiet Day
ORGANIZER;CN="Wydale Hall":MAILTO:retreat@wydale.org
END:VEVENT
BEGIN:VEVENT
DTSTART;TZID=UTC:20260507T090000
DTEND;TZID=UTC:20260507T150000
DTSTAMP:20260424T095746
CREATED:20251016T090659Z
LAST-MODIFIED:20251016T090659Z
UID:10004181-1778144400-1778166000@promotingretreats.org
SUMMARY:Labyrinth Day at Holy Rood House
DESCRIPTION:May 7th\nSpring Labyrinth Day with Helen Warwick
URL:https://promotingretreats.org/retreat/labyrinth-day-at-holy-rood-house/
LOCATION:Holy Rood House\, 10 Sowerby Road\, Thirsk\, Yorkshire\, YO7 1HX\, United Kingdom
CATEGORIES:Residential Retreat
ORGANIZER;CN="Holy Rood House":MAILTO:enquiries@holyroodhouse.org.uk
END:VEVENT
BEGIN:VEVENT
DTSTART;TZID=UTC:20260507T090000
DTEND;TZID=UTC:20260507T150000
DTSTAMP:20260424T095746
CREATED:20260227T151815Z
LAST-MODIFIED:20260227T151815Z
UID:10004817-1778144400-1778166000@promotingretreats.org
SUMMARY:Quiet Garden Day at Holland House
DESCRIPTION:7th May 2026: Quiet Garden Day\nThursday 7th May 2026 The overall theme for this year is ’The Healing Garden’ Come and spend the day enjoying the peace and tranquillity of the Holland House gardens.   The day will begin at 10am to gather for coffee and then start in the Chapel at 10.30am for thoughts…
URL:https://promotingretreats.org/retreat/quiet-garden-day-at-holland-house-2/
LOCATION:Holland House\, Main Road\, Cropthorne\, Worcs\, WR10 3NB\, United Kingdom
CATEGORIES:Quiet Day
ORGANIZER;CN="Holland House":MAILTO:enquiries@hollandhouse.org
END:VEVENT
BEGIN:VEVENT
DTSTART;TZID=UTC:20260508T083000
DTEND;TZID=UTC:20260510T153000
DTSTAMP:20260424T095746
CREATED:20250821T071520Z
LAST-MODIFIED:20250821T071520Z
UID:10004081-1778229000-1778427000@promotingretreats.org
SUMMARY:Creative retreat at Quiet Waters Retreat House
DESCRIPTION:Knit or Crochet a QW Garden\n\n\nKim Hutchinson\n\n\n4pm on 8th to 3pm on 10th\n\n\n£270 (full board)£65 day rate(includes two-course lunch + refreshments)\n\n\nIn main house\nAll materials provided
URL:https://promotingretreats.org/retreat/creative-retreat-at-quiet-waters-retreat-house-2/
LOCATION:Quiet Waters Christian Retreat House\, Flixton Road\, Bungay\, Suffolk\, NR35 1PD\, United Kingdom
CATEGORIES:Residential Retreat
END:VEVENT
BEGIN:VEVENT
DTSTART;TZID=UTC:20260508T090000
DTEND;TZID=UTC:20260509T150000
DTSTAMP:20260424T095746
CREATED:20251209T181218Z
LAST-MODIFIED:20251209T181218Z
UID:10004574-1778230800-1778338800@promotingretreats.org
SUMMARY:Watercolour retreat at Foxhill House
DESCRIPTION:Trees and Leaves Watercolour Retreat\nFri 8th May – Sat 9th May – arrivals welcome from 4pm An overnight (24 hour) retreat led by the Revd. Jane and Trevor Mottram. £180 ~ includes en-suite accommodation\, refreshments and meals.
URL:https://promotingretreats.org/retreat/watercolour-retreat-at-foxhill-house/
LOCATION:Foxhill House\, Tarvin Road\, Frodsham\, Cheshire\, WA6 6XB\, United Kingdom
CATEGORIES:Residential Retreat
ORGANIZER;CN="Foxhill House":MAILTO:foxhill@chester.anglican.org
END:VEVENT
BEGIN:VEVENT
DTSTART;TZID=UTC:20260508T090000
DTEND;TZID=UTC:20260510T150000
DTSTAMP:20260424T095746
CREATED:20251120T084227Z
LAST-MODIFIED:20251120T084227Z
UID:10004482-1778230800-1778425200@promotingretreats.org
SUMMARY:Julian of Norwich retreat at Hilfield Friary
DESCRIPTION:There can be little doubt that Julian of Norwich continues to have a lasting and profound influence on many who are seeking to live faithful Christian lives.  In this retreat we will consider some of the reasons for this\, and explore her theological and spiritual insight. \nJulian witnesses to a God whose love is unconditional\, all-embracing\, all-inclusive\, and who longs to share this love with all of creation. \nSuggested donation £160 \n\n\n\n\nPlease contact Suzi to check availability and avoid disappointment before registering for the weekend. \n\n\n  
URL:https://promotingretreats.org/retreat/julian-of-norwich-retreat-at-hilfield-friary/
LOCATION:Hilfield Friary\, Hilfield\, Dorchester\, Dorset\, DT7 7BE\, United Kingdom
CATEGORIES:Residential Retreat
ORGANIZER;CN="Hilfield Friary":MAILTO:hilfieldprogramme@franciscans.org.uk
END:VEVENT
BEGIN:VEVENT
DTSTART;TZID=UTC:20260508T090000
DTEND;TZID=UTC:20260510T150000
DTSTAMP:20260424T095746
CREATED:20251219T113032Z
LAST-MODIFIED:20251219T113119Z
UID:10004606-1778230800-1778425200@promotingretreats.org
SUMMARY:Silent retreat at St Mary's Convent\, Wantage
DESCRIPTION:Friday 8th – Sunday 10th May\nSilent Conducted Retreat\nMapping the Unmappable: Praying with the Carmelite Saints\nWith Fr Charlie\, CR\nA two night silent Retreat where the often difficult and  bewildering terrain of prayer is explored. \n£255 per person – two nights\, full board\, ensuite room. \nClick here for more information.
URL:https://promotingretreats.org/retreat/quiet-day-at-st-marys-convent-wantage/
LOCATION:Community of St Mary the Virgin\, Wantage\, Denchworth Road\, Wantage\, Oxfordshire\, OX12 9DJ\, United Kingdom
CATEGORIES:Residential Retreat
ORGANIZER;CN="Community of St Mary the Virgin%2C Wantage":MAILTO:welcome@csmv.co.uk
END:VEVENT
BEGIN:VEVENT
DTSTART;TZID=UTC:20260509T073000
DTEND;TZID=UTC:20260509T083000
DTSTAMP:20260424T095746
CREATED:20240726T070809Z
LAST-MODIFIED:20240726T071923Z
UID:10002583-1778311800-1778315400@promotingretreats.org
SUMMARY:Online meditation with the School of Contemplative Life
DESCRIPTION:Meditation in the Christian tradition is an ancient and simple way of prayer. \nOur purpose is to teach meditation as a simple path to peace\, community and oneness. Our vision is to help people establish peace in themselves and become places of peace in the world. \nEach session includes a short talk\, a period of silent meditation practice (preceded by some basic guidelines for anyone who is new)\, and an opportunity for conversation afterwards. \nThe sessions are guided by Chris Whittington. Chris spent a period of formation at Prinknash Abbey Benedictine Monastery and is the Founder of The School of Contemplative Life. \nYou don’t need to bring anything – just yourself. Try to find a quiet space where you won’t be disturbed.
URL:https://promotingretreats.org/retreat/online-meditation-with-the-school-of-contemplative-life/2026-05-09/
LOCATION:Staffordshire
CATEGORIES:Online retreat/event
END:VEVENT
BEGIN:VEVENT
DTSTART;TZID=UTC:20260509T090000
DTEND;TZID=UTC:20260509T150000
DTSTAMP:20260424T095746
CREATED:20250320T105726Z
LAST-MODIFIED:20250320T105726Z
UID:10003651-1778317200-1778338800@promotingretreats.org
SUMMARY:Day of Reflection at the Franciscan Centre\, Ladywell
DESCRIPTION:Day of Reflection\nThe Franciscan Centre Ashstead Lane\, Godalming\, United Kingdom\n\n\nCome away and rest awhile on a Day of Reflection at the Franciscan Centre Ladywell! Our next gatherings will be held on the 2nd Saturday and 4th Tuesday of each month from 9.30am to 4.00pm.
URL:https://promotingretreats.org/retreat/day-of-reflection-at-the-franciscan-centre-ladywell/2026-05-09/
LOCATION:Franciscan Centre\, Ladywell\, Ashtead Lane\, Godalming\, GU7 1ST\, United Kingdom
CATEGORIES:Quiet Day
ORGANIZER;CN="Franciscan Centre%2C Ladywell":MAILTO:franciscancentre@ladywell.org.uk
END:VEVENT
BEGIN:VEVENT
DTSTART;TZID=UTC:20260509T090000
DTEND;TZID=UTC:20260509T150000
DTSTAMP:20260424T095746
CREATED:20250821T062214Z
LAST-MODIFIED:20250821T062214Z
UID:10004059-1778317200-1778338800@promotingretreats.org
SUMMARY:Craft Quiet Day at the Retreat House Pleshey
DESCRIPTION:COLOURS OF DAY\n  \n\nA Reflect and Create Craft Day
URL:https://promotingretreats.org/retreat/craft-quiet-day-at-the-retreat-house-pleshey-2/
LOCATION:Retreat House Pleshey\, The Street\, Pleshey\, Essex\, CM3 1HA\, United Kingdom
CATEGORIES:Quiet Day
ORGANIZER;CN="Retreat House Pleshey":MAILTO:retreathouse@chelmsford.anglican.org
END:VEVENT
BEGIN:VEVENT
DTSTART;TZID=UTC:20260509T090000
DTEND;TZID=UTC:20260509T150000
DTSTAMP:20260424T095746
CREATED:20260227T094130Z
LAST-MODIFIED:20260227T094130Z
UID:10004781-1778317200-1778338800@promotingretreats.org
SUMMARY:Annual Julian Lecture at St Julian's Shrine\, Norwich
DESCRIPTION:Annual Julian Lecture:Julian’s Sensory World\n\n\nThis year’s annual Julian lecture will be given by Margit Thøfner\, senior lecturer in Art History\, on the subject of Julian’s Sensory World: Embodied Knowledge in Medieval Norwich Click here for more information.
URL:https://promotingretreats.org/retreat/annual-julian-lecture-at-st-julians-shrine-norwich/
LOCATION:St Julian’s Church\, Norwich\, Rouen Road\, Norwich\, Norfolk\, NR1 1QT\, United Kingdom
CATEGORIES:Event,Quiet Day
ORGANIZER;CN="Julian Shrine":MAILTO:josiah.english@julianofnorwich.org
END:VEVENT
BEGIN:VEVENT
DTSTART;TZID=UTC:20260509T090000
DTEND;TZID=UTC:20260515T150000
DTSTAMP:20260424T095746
CREATED:20251016T103300Z
LAST-MODIFIED:20251016T103300Z
UID:10004282-1778317200-1778857200@promotingretreats.org
SUMMARY:Silent IGR retreat at Penhurst Retreat Centre
DESCRIPTION:Sat 9 – Fri 15 May \n6 Night Silent Individually Guided Retreat\n  \nMaureen Stringer and Chris Doust \n 
URL:https://promotingretreats.org/retreat/silent-igr-retreat-at-penhurst-retreat-centre/
LOCATION:Penhurst Retreat Centre\, Penhurst\, Nr Battle\, East Sussex\, TN33 9QP\, United Kingdom
CATEGORIES:IGR (Individually Guided Retreat),Residential Retreat
ORGANIZER;CN="Penhurst Retreat Centre":MAILTO:info@penhurst.org.uk
END:VEVENT
BEGIN:VEVENT
DTSTART;TZID=UTC:20260510T150000
DTEND;TZID=UTC:20260515T130000
DTSTAMP:20260424T095746
CREATED:20250704T061857Z
LAST-MODIFIED:20250704T061857Z
UID:10003976-1778425200-1778850000@promotingretreats.org
SUMMARY:Icon painting workshop at the Franciscan Centre\, Ladywell
DESCRIPTION:May 10\, 2026 @ 4:00 pm – May 15\, 2026 @ 11:00 am\nIcon Painting Workshop 2026\nThe Franciscan Centre Ashstead Lane\, Godalming\, United Kingdom\n\n\nIcon Workshop- Painting and Prayer with Sr Annette Lawrence\nA prayerful experience of painting an icon of your own.\nEach day includes input about icons\, a meditation on an icon and painting your own icon with plenty of instruction and demonstrations. All are welcome – artistically talented or not! \n\n£650
URL:https://promotingretreats.org/retreat/icon-painting-workshop-at-the-franciscan-centre-ladywell/
LOCATION:Franciscan Centre\, Ladywell\, Ashtead Lane\, Godalming\, GU7 1ST\, United Kingdom
CATEGORIES:Residential Retreat
ORGANIZER;CN="Franciscan Centre%2C Ladywell":MAILTO:franciscancentre@ladywell.org.uk
END:VEVENT
BEGIN:VEVENT
DTSTART;TZID=UTC:20260511T070000
DTEND;TZID=UTC:20260511T160000
DTSTAMP:20260424T095746
CREATED:20251016T105329Z
LAST-MODIFIED:20251016T105329Z
UID:10004316-1778482800-1778515200@promotingretreats.org
SUMMARY:Open Reflective Day at the Royal Foundation of St Katharine
DESCRIPTION:Open Reflective Day ~ 11th May\n\n11th May 2026\, 8:00 am – 5:00 pm\n\n\nWe are delighted to invite you to our Urban Oasis for our Open Reflective Days in 2026. These are our most popular retreats allowing you to have a personal quiet day to reflect and recharge away from the distractions of everyday life. \nYou may use this day as time to pray\, do some life admin or maybe to finish that project you need to focus on. Most people choose to begin their day by joining the welcome meditation. \nDuring the day you are welcome to join our optional services held in our Chapel. \nOption to StaySunday \nYou can stay over on Sunday through to the Open Reflective Day on Monday to enjoy a full 24 hours residential retreat experience. \nKindly note that places are limited so please book early to avoid disappointment. Click the link below for more info on how to book.
URL:https://promotingretreats.org/retreat/open-reflective-day-at-the-royal-foundation-of-st-katharine-5/
LOCATION:Royal Foundation of St Katharine\, 2 Butcher Row\, London\, London\, E14 8DS\, United Kingdom
CATEGORIES:Quiet Day
ORGANIZER;CN="Royal Foundation of St Katharine":MAILTO:info@rfsk.org.uk
END:VEVENT
BEGIN:VEVENT
DTSTART;TZID=UTC:20260511T090000
DTEND;TZID=UTC:20260512T160000
DTSTAMP:20260424T095746
CREATED:20260424T075353Z
LAST-MODIFIED:20260424T075353Z
UID:10005071-1778490000-1778601600@promotingretreats.org
SUMMARY:Designing retreats course at Sarum College
DESCRIPTION:Designing and Facilitating Retreats course\n\nThis short course will explore three retreat formats: the themed retreat\, individually guided retreats (IGRs) and retreats in everyday life. You will be invited to consider the key elements that shape a Christian retreat and what these might look like in your context. We will also consider key aspects of effective facilitation. We will discuss approaches and you will work in small groups and on your own to design a retreat that you could facilitate. Participants are invited to bring resources that might inform or contribute to their retreat ideas. This short course may be of particular use to Spiritual Directors\, Ordained Minsters and Lay Readers or others who wish to run Christian retreats for adults. \nDr Pollyanna Magne is the Director of Spiritual Direction at Sarum College\, retreat leader and a National Teaching Fellow.  \nKatharine Thompson is a Tutor in Spiritual Direction at Sarum College and leads retreats that combine spiritual direction with trail running. 
URL:https://promotingretreats.org/retreat/designing-retreats-course-at-sarum-college/
LOCATION:Sarum College\, 19 The Close\, Salisbury\, Wiltshire\, SP1 2EE\, United Kingdom
CATEGORIES:Residential Retreat
ORGANIZER;CN="Sarum College":MAILTO:info@sarum.ac.uk
END:VEVENT
BEGIN:VEVENT
DTSTART;TZID=UTC:20260511T110000
DTEND;TZID=UTC:20260511T130000
DTSTAMP:20260424T095746
CREATED:20260406T061036Z
LAST-MODIFIED:20260406T061036Z
UID:10004994-1778497200-1778504400@promotingretreats.org
SUMMARY:Soup and Silence at Tremorran & The Angel
DESCRIPTION:Arrive at 12.15 for soup and a chat. \nSilence from 1-1.30
URL:https://promotingretreats.org/retreat/soup-and-silence-at-tremorran-the-angel-2/
LOCATION:Tremorran and the Angel\, Truthwall St Just\, Penzance\, Cornwall\, TR19 7QJ\, United Kingdom
CATEGORIES:Event,Quiet Day
ORGANIZER;CN="Tremorran and the Angel":MAILTO:missanniehenry@hotmail.com
END:VEVENT
BEGIN:VEVENT
DTSTART;TZID=UTC:20260511T130000
DTEND;TZID=UTC:20260515T150000
DTSTAMP:20260424T095746
CREATED:20250821T060040Z
LAST-MODIFIED:20250821T060040Z
UID:10004040-1778504400-1778857200@promotingretreats.org
SUMMARY:Mountain pilgrimage retreat at Abernethy Kilmalieu
DESCRIPTION:What makes a mountain walk\, coastal ramble or woodland wander into a ‘pilgrimage’? The answer has to do with our intention. During this week we will seek to be conscious of the Creator’s presence and activity as we undertake our physical journeys. You will be offered ways of praying\, reflecting and engaging with nature that will transform your experience into a profound pilgrimage. The walking will be spectacular\, but the experience will be deepened by our engagement with God\, nature and one another. \nEach day there will be the option of a mountain walk (with qualified mountain leader)\, a gentler coastal or woodland wander\, or some activities in the Centre and grounds. The area around Kilmalieu is home to some dramatic hills\, including the elegant Glengalmadale Horseshoe with its ‘Corbetts’ of Creach Bheinn and Fuar Bheinn. Lower altitude options are equally spectacular\, with walks along the Morvern coastline and in the ancient oak woodlands of the Atlantic Rainforest. Participants will be invited to join morning and evening prayers in the outdoors\, using a different habitat each day.
URL:https://promotingretreats.org/retreat/mountain-pilgrimage-retreat-at-abernethy-kilmalieu/
LOCATION:Abernethy Kilmalieu\, Kilmalieu\, Fort William\, Highland\, PH33 7AD\, United Kingdom
CATEGORIES:Residential Retreat
END:VEVENT
END:VCALENDAR